BEGIN:VCALENDAR
VERSION:2.0
PRODID:-//Mara Clear Spring - ECPv6.15.18//NONSGML v1.0//EN
CALSCALE:GREGORIAN
METHOD:PUBLISH
X-WR-CALNAME:Mara Clear Spring
X-ORIGINAL-URL:https://maraclearspring.com
X-WR-CALDESC:Events for Mara Clear Spring
REFRESH-INTERVAL;VALUE=DURATION:PT1H
X-Robots-Tag:noindex
X-PUBLISHED-TTL:PT1H
BEGIN:VTIMEZONE
TZID:America/Los_Angeles
BEGIN:DAYLIGHT
TZOFFSETFROM:-0800
TZOFFSETTO:-0700
TZNAME:PDT
DTSTART:20250309T100000
END:DAYLIGHT
BEGIN:STANDARD
TZOFFSETFROM:-0700
TZOFFSETTO:-0800
TZNAME:PST
DTSTART:20251102T090000
END:STANDARD
BEGIN:DAYLIGHT
TZOFFSETFROM:-0800
TZOFFSETTO:-0700
TZNAME:PDT
DTSTART:20260308T100000
END:DAYLIGHT
BEGIN:STANDARD
TZOFFSETFROM:-0700
TZOFFSETTO:-0800
TZNAME:PST
DTSTART:20261101T090000
END:STANDARD
BEGIN:DAYLIGHT
TZOFFSETFROM:-0800
TZOFFSETTO:-0700
TZNAME:PDT
DTSTART:20270314T100000
END:DAYLIGHT
BEGIN:STANDARD
TZOFFSETFROM:-0700
TZOFFSETTO:-0800
TZNAME:PST
DTSTART:20271107T090000
END:STANDARD
END:VTIMEZONE
BEGIN:VEVENT
DTSTART;TZID=America/Los_Angeles:20260515T100000
DTEND;TZID=America/Los_Angeles:20260515T123000
DTSTAMP:20260423T210631
CREATED:20260423T220918Z
LAST-MODIFIED:20260424T001512Z
UID:33817-1778839200-1778848200@maraclearspring.com
SUMMARY:Shamanic Master Journey
DESCRIPTION:Your May Shamanic Master Journey\nJoy Medicine – Unwind Stress\, Restore Joy\n✨ DATE: May 15\, 2026 \nOnly 23 Participants per Journey • $25 \nNo Attendance – Done For You! \nWould you like to experience more Joy right now? \nMore ease. More laughter. More softness. \nMore moments where your nervous system finally unclenches and you can simply breathe again.  \nDo you find yourself longing to feel wonderment\, pleasure\, and anticipation?  \nAll of these joyful emotions raise your spirits and elevate your outlook. \nYou’ll want Joy Medicine if you’ve been: \n\nOverthinking\nUndersleeping\nDoubting yourself regularly\nFeeling emotionally raw and overstimulated\nCatching every little bug that comes around \n\nIf you are a caregiver\, healer\, empath\, psychic\, or therapist\, then 24/7 you’ve been tapped into the ongoing collective stress\, grief\, anger\, and emotional overwhelm moving through our world right now . \nLet’s help you unplug from the endless cycle.\nAnd make some time for YOU! \nWhat We’ll Do\nOur May Shamanic Master Journey is designed to unwind the stress and bring back more joy in your life. \nTo deliver your dose of Joy Medicine\, we’ll focus on: \n\nGently unwinding layers of accumulated stress and energetic tension\nSoothing overstimulation\, emotional fatigue\, and inner pressure\nReleasing patterns of chronic bracing\, over-responsibility\, and survival mode\nRestoring comfort\, softness\, safety\, and nervous system ease\nReawakening your natural connection to joy\, presence\, and emotional flow\nHelping you receive support instead of always being the one giving it\n\nThis Journey is designed to help you reconnect with the parts of yourself that still know how to rest\, restore\, and feel joyfully alive again. \nRemember\nThere is no Zoom\, no schedule to manage. You register and receive. That’s it. \nOptional Add-On\nYour Joy Guide \nThat’s right — you can have your own Joy Guide. \nYou’ll receive a Guided Journey Meditation designed to help you meet a supportive spiritual ally connected to joy\, comfort\, ease\, and emotional renewal. \nYour Joy Guide may appear as a loving Spirit Helper\, Power Animal\, Ancestor\, Ascended Teacher\, or another unexpected source of Joy Wisdom. \nI’ll also include simple ways to continue building your connection so you can gently expand your capacity to receive Joy Medicine in everyday life. \nWhat You Do\nNothing! \nSimply register\, and I’ll do the Journey work for you at the scheduled time within sacred Shamanic space. \nNo attendance is required.\nNo Zoom.\nNo pressure to “process” anything perfectly. \nYou simply receive! \nWhat You’ll Receive\nAfter the Joy Medicine Shamanic Master Journey\, you’ll receive a recording where I share what came through during the work\, including guidance\, imagery\, messages\, and energetic themes connected to the Journey. \nListening is completely optional\nThe healing work is received in Divine Timing whether you listen immediately\, later\, or not at all. \nSometimes the deepest medicine begins when we finally allow ourselves to soften. \nMay this Journey help you breathe a little deeper\, rest a little more fully\, and remember that joy is still allowed to belong to you. ✨ \nREGISTRATION\nYour Investment: $25 ~ Limited to just 23 participants \n▶️ Register HERE \nMay 15\, 2026 \nI take the Shamanic Master Journey on your behalf \nRecording sent afterward – Optional listening\, but you don’t need to. You still receive the benefit! \nThe work is complete once the Shamanic Master Journey is done. \nListening offers context and insight. \nYou deserve Joy Medicine! \n\nWhat Is A Master Journey?\nThere was a time when the shamanic healer for the local village\, town\, clan\, tribe (you get the picture) did most of their work in the background with the implicit consent of their people. They supported the medicine man/woman\, and they in turn did work on behalf of the community. \nSome ceremonies were public. Many were not\, instead held between the practitioner and their Shamanic Allies in the Spirit World. When that happened\, the people were the beneficiaries without having to be present. They simply received it. \nIn my Group Master Journey\, that’s what I am doing for you. Everyone who participates does so just by registering – I have to limit the number of participants. Then\, I take the journey for you. And the work is done. That’s it! I do make a recording and send it out for those who want to hear what happened\, but it’s not necessary. \nContact me with any questions! \nCover Art – Tamara Adams Art
URL:https://maraclearspring.com/event/shamanic-master-journey/
CATEGORIES:Community Events,Master Journey
ATTACH;FMTTYPE=image/jpeg:https://maraclearspring.com/wp-content/uploads/2024/03/Hummingbird-Goddess-by-Tamara-Adams-Art.jpg
END:VEVENT
END:VCALENDAR